BEGIN:VCALENDAR
VERSION:2.0
PRODID:-//jEvents 2.0 for Joomla//EN
CALSCALE:GREGORIAN
METHOD:PUBLISH
BEGIN:VEVENT
UID:40989ec6b9e175676946ff951fd10a91
CATEGORIES:Veranstaltungen
CREATED:20171220T223127
SUMMARY:Fränkisches Kabarett mit Emmi Weiß
LOCATION:Steinweg 5
DESCRIPTION:Leider schon ausverkauft !\n29.04.18, Samstag 19.00 Uhr\nSteinweg 5\nFränki
 sches Kabarett mit Emmi Weiß\nAnmeldung bei Emmi Weiß Steinweg 7\n
X-ALT-DESC;FMTTYPE=text/html:<p><span style="background-color: #ffff99; font-size: 12pt;">Leider schon a
 usverkauft !</span></p><p>29.04.18, Samstag 19.00 Uhr</p><p>Steinweg 5</p><
 p>Fr&auml;nkisches Kabarett mit Emmi Wei&szlig;</p><p>Anmeldung bei Emmi We
 i&szlig; Steinweg 7</p>
DTSTAMP:20260423T103241
DTSTART:20180428T190000
SEQUENCE:0
TRANSP:OPAQUE
END:VEVENT
END:VCALENDAR