BEGIN:VCALENDAR
VERSION:2.0
PRODID:-//jEvents 2.0 for Joomla//EN
CALSCALE:GREGORIAN
METHOD:PUBLISH
BEGIN:VEVENT
UID:b639d25392f6654818f0b8da2cbce189
CATEGORIES:Gesprächskreis
CREATED:20260105T130922
SUMMARY:"Von Ostern zu Pfingsten"
LOCATION:Steinweg 5
DESCRIPTION:<p>Gesprächskreis mit Herbert Dummer</p>
DTSTAMP:20260420T191414
DTSTART:20260416T190000
SEQUENCE:0
TRANSP:OPAQUE
END:VEVENT
END:VCALENDAR