BEGIN:VCALENDAR
VERSION:2.0
PRODID:-//jEvents 2.0 for Joomla//EN
CALSCALE:GREGORIAN
METHOD:PUBLISH
BEGIN:VEVENT
UID:339a38209d3b44ceea12b70282c5d61f
CATEGORIES:Treffpunkt
CREATED:20260105T130837
SUMMARY:Stammtisch
LOCATION:Steinweg 5
DESCRIPTION:<p>für Mitglieder und Gäste</p>
DTSTAMP:20260420T193826
DTSTART:20260413T190000
SEQUENCE:0
TRANSP:OPAQUE
END:VEVENT
END:VCALENDAR