BEGIN:VCALENDAR
VERSION:2.0
PRODID:-//jEvents 2.0 for Joomla//EN
CALSCALE:GREGORIAN
METHOD:PUBLISH
BEGIN:VEVENT
UID:ccbc542a82734b99ca0e6519e24bdcde
CATEGORIES:Veranstaltungen
CREATED:20260105T130752
SUMMARY:Ölbergandacht
LOCATION:Kirchenplatz
DESCRIPTION:
DTSTAMP:20260420T175040
DTSTART:20260402T200000
SEQUENCE:0
TRANSP:OPAQUE
END:VEVENT
END:VCALENDAR