BEGIN:VCALENDAR
VERSION:2.0
PRODID:-//jEvents 2.0 for Joomla//EN
CALSCALE:GREGORIAN
METHOD:PUBLISH
BEGIN:VEVENT
UID:02fd93d898a67d0355a2d7f8a0e8ba36
CATEGORIES:Veranstaltungen
CREATED:20161221T184403
SUMMARY:Studienfahrt- Ritter, Bauern, Lutheraner
DESCRIPTION:<p>Dienstag, 30.05.</p><p>ZOB, 08:00 Uhr</p><p>Ritter, Bauern, Lutheraner- 
 Studienfahrt zur Landesausstellung in Coburg</p><p>Anmeldung: Tanja's Reise
 welt</p>
DTSTAMP:20260419T124801
DTSTART:20170530T080000
SEQUENCE:0
TRANSP:OPAQUE
END:VEVENT
END:VCALENDAR