BEGIN:VCALENDAR
VERSION:2.0
PRODID:-//jEvents 2.0 for Joomla//EN
CALSCALE:GREGORIAN
METHOD:PUBLISH
BEGIN:VEVENT
UID:b7c8dd21ce3f5d7a0b4ae46794b62de8
CATEGORIES:Treffpunkt
CREATED:20161221T183713
SUMMARY:Stammtisch für Mitglieder und Gäste
DESCRIPTION:Montag, 08.05.\nSteinweg 5, 19:00 Uhr\nStammtisch für Mitglieder und Gäste\
 n
X-ALT-DESC;FMTTYPE=text/html:<p>Montag, 08.05.</p><p>Steinweg 5, 19:00 Uhr</p><p>Stammtisch für Mitglied
 er und Gäste</p>
DTSTAMP:20260423T085309
DTSTART:20170508T190000
SEQUENCE:0
TRANSP:OPAQUE
END:VEVENT
END:VCALENDAR