BEGIN:VCALENDAR
VERSION:2.0
PRODID:-//jEvents 2.0 for Joomla//EN
CALSCALE:GREGORIAN
METHOD:PUBLISH
BEGIN:VEVENT
UID:c432d8d4dc3be276f23de06039a20e57
CATEGORIES:Veranstaltungen
CREATED:20161221T180745
SUMMARY:Citronen, Pomeranzen, Spargel, Tabak- Exotik in Garten und Feld seit dem 17. Jahrhundert
DESCRIPTION:<p>Donnerstag, 16.03.</p><p>Gaststätte Heller, 19:30 Uhr</p><p>Citronen, Po
 meranzen, Spargel, Tabak- Exotik in Garten und Feld seit dem 17. Jahrhunder
 t</p><p>Vortrag von Prof. Dr. Wolfgang Wüst</p><p> </p>
DTSTAMP:20260423T091320
DTSTART:20170316T193000
SEQUENCE:0
TRANSP:OPAQUE
END:VEVENT
END:VCALENDAR